BEGIN:VCALENDAR
VERSION:2.0
PRODID:-//Eventin//Event Calendar//EN
CALSCALE:GREGORIAN
METHOD:PUBLISH
BEGIN:VEVENT
UID:20b506aef5cb9ebcc5545e7db1851f00@ibfansea.org
SUMMARY:IBFAN SEA Breastfeeding Conference
DESCRIPTION:The Landscape Has Changed. Our Response Must Too.Breastfeeding 
 protection in Southeast Asia is operating in a rapidly changing context. Di
 gital marketing is reshaping how feeding decisions are influenced\, climate
  disruption is testing the readiness of health and humanitarian systems\, a
 nd long-standing gaps in policy enforcement and system design continue to l
 imit meaningful protection for mothers.SEABC 2026 is Southeast Asia's first
  regional conference to address breastfeeding protection at the scale these
  challenges demand.Through thought-provoking plenaries\, knowledge-sharing\
 , and regional dialogue\, SEABC 2026 will highlight strategies to build saf
 er digital environments\, strengthen breastfeeding in disaster preparedness
  and climate resilience agendas\, and advance equity through inclusive work
 places\, healthcare systems\, and legal protections.
LOCATION:Al Meroz Hotel Bangkok
DTSTAMP:20260425T172107Z
DTSTART:20261126T020000Z
DTEND:20261127T230000Z
END:VEVENT
END:VCALENDAR
